BEGIN:VCALENDAR
VERSION:2.0
PRODID:-//Trinity Retirement Association - ECPv3.9//NONSGML v1.0//EN
CALSCALE:GREGORIAN
METHOD:PUBLISH
X-WR-CALNAME:Trinity Retirement Association
X-ORIGINAL-URL:http://tcdretired.ie
X-WR-CALDESC:Events for Trinity Retirement Association
BEGIN:VEVENT
DTSTART;VALUE=DATE-TIME:20171026T110000
DTEND;VALUE=DATE-TIME:20171026T120000
DTSTAMP:20171024T024334
CREATED:20170925T225520
LAST-MODIFIED:20170925T230535
UID:3306-1509015600-1509019200@http://tcdretired.ie
SUMMARY:Exhibition tour: Jacob's Biscuit Factory and Dublin
DESCRIPTION:Title of exhibition:  Jacob’s Biscuit Factory &amp; Dublin    Tour:  Thursday 26th October at 11.00 a.m.    Location: Dublin City Library &amp; Archive 138-144 Pearse St    Cost: No Charge.    Drawing on the vast 330 boxes of Jacob Biscuit Factory Archives held at Dublin City Library and using beautifully illustrated panels\, oral histories\, flags and original artefacts\, the exhibition tells both a chronological and thematic history of Jacob’s Biscuit factory.    http://www.dublincity.ie/crackin%E2%80%99-new-exhibition-explores-history-jacob%E2%80%99s-biscuit-factory    If you would like to come on this tour\, please let us know by email at info@tcdretired.ie   Closing Date for booking is 18th October. Places are limited.   It will be a matter of the first 20 names getting the places.    Further details will be emailed to participants after October 18th.
URL:http://tcdretired.ie/event/exhibition-tour-jacobs-biscuit-factory-and-dublin/
END:VEVENT
BEGIN:VEVENT
DTSTART;VALUE=DATE-TIME:20171115T110000
DTEND;VALUE=DATE-TIME:20171115T123000
DTSTAMP:20171024T024334
CREATED:20171021T202959
LAST-MODIFIED:20171021T204718
UID:3313-1510743600-1510749000@http://tcdretired.ie
SUMMARY:Tour of Glasnevin Cemetery Museum
DESCRIPTION:10.30 for 11.00 am Wednesday\, 15 November 2017    You are invited to join other members of the Association for a Tour of the Glasnevin Cemetery Museum\, which includes a private guided tour of the cemetery as well as access to the museum which is all self-guided.  This event is open to members only\, as numbers are limited.  The cost is €8 per person.     We will meet at 10.30 am in the Tower Café in the Museum.     If you would like to join other members of the Trinity Retirement Association for this event\, please let us have your online booking (See below.) and payment of €8 per person no later than Friday 10th November.  As places are limited for this event\, it is advisable to book as soon as possible.  Reservations will be taken on a first come\, first served basis.  In the event that this event is booked out please email info@tcdretired.ie for your name to be included on a waiting list.  You will be contacted should a place become available.         Permanent exhibitions at Glasnevin Cemetery Museum include 'City of the Dead'\, 'Prospect Gallery' and 'Milestone Gallery'. 'City of the Dead' is a history of the cemetery\, Glasnevin Trust and even a reconstructed exhibition of how a grave robber conducted his grim business. The glazed 'Prospect Gallery' offers periodic historical exhibitions over a panoramic view of the cemetery along with information on its marvellous array of funeral monuments and historic graves. The 'Milestone Gallery' is home to the Milestone Timeline\, a never before attempted piece of exhibition design technology.     Glasnevin Cemetery Museum has been the recipient of a number of prestigious awards since opening April 2010 such as 'Best International Museum' (London May 2011)\, Thea Award (California March 2011)\, Kenneth Hudson Awards (Portugal May 2012) to name but a few.  Location  Glasnevin Cemetery Museum is located on the Finglas Road\, Botanic\, Dublin 11\, approximately 3km from the City Centre. Pedestrian access is also available through the original Prospect Square gate (beside the famous Gravediggers Pub).  Transport  Bus: 140 and 40 Depart from O' Connell Street to Glasnevin Cemetery.     Glasnevin Cemetery Museum is adjacent to the National Botanic Gardens which are serviced by routes 4\, 9 and 83. Visitors coming from the National Botanic Gardens must do so via Prospect Road and continue onto the Finglas Road or enter by foot via Prospect Square.    Car: Glasnevin Cemetery is situated on the Finglas Road/N2.    Parking: There are on-site parking facilities for approx 200 vehicles. In addition\, there are also a number of on-street parking spaces.    Glasnevin Cemetery Car Park - €2 per hour    St. Paul's Car Park - €2 per day
URL:http://tcdretired.ie/event/tour-of-glasnevin-cemetery-museum-2/
END:VEVENT
BEGIN:VEVENT
DTSTART;VALUE=DATE-TIME:20171207T180000
DTEND;VALUE=DATE-TIME:20171207T193000
DTSTAMP:20171024T024334
CREATED:20170913T213538
LAST-MODIFIED:20170920T210447
UID:3298-1512669600-1512675000@http://tcdretired.ie
SUMMARY:Christmas Commons, Dining Hall, TCD
DESCRIPTION:The Association has once again reserved 28 places at the annual Christmas Commons for a traditional Christmas Dinner including wine.  Dinner will be accompanied by Christmas Carols courtesy of the Chapel Choir. The cost is €28 per person and each member may bring one guest.    Reservation details and further information will be available approximately three weeks prior to the event.
URL:http://tcdretired.ie/event/christmas-commons-dining-hall-tcd/
END:VEVENT
END:VCALENDAR